BEGIN:VCALENDAR
VERSION:2.0
PRODID:network.healthwatch.co.uk
BEGIN:VEVENT
UID:69e98389a7b5d
DTSTART:20260226T110000Z
SEQUENCE:0
TRANSP:OPAQUE
DTEND:20260226T120000Z
LOCATION:Online
SUMMARY:Lead Officers quarterly network meeting
CLASS:PUBLIC
DTSTAMP:20260423T022721Z
END:VEVENT
END:VCALENDAR