BEGIN:VCALENDAR
VERSION:2.0
PRODID:network.healthwatch.co.uk
BEGIN:VEVENT
UID:69e980b1a4251
DTSTART:20251208T110000Z
SEQUENCE:0
TRANSP:OPAQUE
DTEND:20251208T123000Z
LOCATION:Online
SUMMARY:Chairs and board members quarterly network meeting
CLASS:PUBLIC
DTSTAMP:20260423T021513Z
END:VEVENT
END:VCALENDAR