BEGIN:VCALENDAR
VERSION:2.0
PRODID:network.healthwatch.co.uk
BEGIN:VEVENT
UID:69e980796d243
DTSTART:20260223T110000Z
SEQUENCE:0
TRANSP:OPAQUE
DTEND:20260223T123000Z
LOCATION:Online
SUMMARY:Chairs and board members quarterly network meeting
CLASS:PUBLIC
DTSTAMP:20260423T021417Z
END:VEVENT
END:VCALENDAR