BEGIN:VCALENDAR
VERSION:2.0
PRODID:network.healthwatch.co.uk
BEGIN:VEVENT
UID:69e97f888c798
DTSTART:20251106T140000Z
SEQUENCE:0
TRANSP:OPAQUE
DTEND:20251106T153000Z
LOCATION:Online
SUMMARY:How to get media coverage
CLASS:PUBLIC
DTSTAMP:20260423T021016Z
END:VEVENT
END:VCALENDAR