BEGIN:VCALENDAR
VERSION:2.0
PRODID:network.healthwatch.co.uk
BEGIN:VEVENT
UID:69e956a24d9bb
DTSTART:20250617T090000Z
SEQUENCE:0
TRANSP:OPAQUE
DTEND:20250617T101500Z
LOCATION:Online
SUMMARY:Research and Insight Network Group meeting
CLASS:PUBLIC
DTSTAMP:20260422T231546Z
END:VEVENT
END:VCALENDAR