BEGIN:VCALENDAR
VERSION:2.0
PRODID:network.healthwatch.co.uk
BEGIN:VEVENT
UID:69e980649c1af
DTSTART:20250514T100000Z
SEQUENCE:0
TRANSP:OPAQUE
DTEND:20250514T113000Z
LOCATION:Online
SUMMARY:Healthwatch: Disability awareness and engagement workshop
CLASS:PUBLIC
DTSTAMP:20260423T021356Z
END:VEVENT
END:VCALENDAR