BEGIN:VCALENDAR
VERSION:2.0
PRODID:network.healthwatch.co.uk
BEGIN:VEVENT
UID:69e980abefa48
DTSTART:20250605T130000Z
SEQUENCE:0
TRANSP:OPAQUE
DTEND:20250605T143000Z
LOCATION:Online
SUMMARY:Healthwatch: Crisis communications training
CLASS:PUBLIC
DTSTAMP:20260423T021507Z
END:VEVENT
END:VCALENDAR