BEGIN:VCALENDAR
VERSION:2.0
PRODID:network.healthwatch.co.uk
BEGIN:VEVENT
UID:69e981542d1c6
DTSTART:20250702T090000Z
SEQUENCE:0
TRANSP:OPAQUE
DTEND:20250702T110000Z
LOCATION:Online
SUMMARY:Healthwatch: Measuring Success
CLASS:PUBLIC
DTSTAMP:20260423T021756Z
END:VEVENT
END:VCALENDAR