BEGIN:VCALENDAR
VERSION:2.0
PRODID:network.healthwatch.co.uk
BEGIN:VEVENT
UID:69e9832ba8388
DTSTART:20250715T100000Z
SEQUENCE:0
TRANSP:OPAQUE
DTEND:20250715T113000Z
LOCATION:Online
SUMMARY:Healthwatch Volunteer Leads Network meeting (equity and inclusion i
 n volunteering)
CLASS:PUBLIC
DTSTAMP:20260423T022547Z
END:VEVENT
END:VCALENDAR