BEGIN:VCALENDAR
VERSION:2.0
PRODID:network.healthwatch.co.uk
BEGIN:VEVENT
UID:69e980557d64e
DTSTART:20260120T110000Z
SEQUENCE:0
TRANSP:OPAQUE
DTEND:20260120T123000Z
LOCATION:Online
SUMMARY:Healthwatch Volunteer Leads Network meeting (supporting Enter &amp\
 ; View)
CLASS:PUBLIC
DTSTAMP:20260423T021341Z
END:VEVENT
END:VCALENDAR