BEGIN:VCALENDAR
VERSION:2.0
PRODID:network.healthwatch.co.uk
BEGIN:VEVENT
UID:69e97f118b049
DTSTART:20260324T100000Z
SEQUENCE:0
TRANSP:OPAQUE
DTEND:20260324T113000Z
LOCATION:Online
SUMMARY:Developing a good online survey
CLASS:PUBLIC
DTSTAMP:20260423T020817Z
END:VEVENT
END:VCALENDAR