BEGIN:VCALENDAR
VERSION:2.0
PRODID:network.healthwatch.co.uk
BEGIN:VEVENT
UID:69e96912e35aa
DTSTART:20260305T100000Z
SEQUENCE:0
TRANSP:OPAQUE
DTEND:20260305T111500Z
LOCATION:Online
SUMMARY:Research and Insight Network Group meeting
CLASS:PUBLIC
DTSTAMP:20260423T003426Z
END:VEVENT
END:VCALENDAR