BEGIN:VCALENDAR
VERSION:2.0
PRODID:network.healthwatch.co.uk
BEGIN:VEVENT
UID:69ed6e107ea37
DTSTART:20260205T110000Z
SEQUENCE:0
TRANSP:OPAQUE
DTEND:20260205T120000Z
LOCATION:Online
SUMMARY:Healthwatch: Working with MPs and Parliament
CLASS:PUBLIC
DTSTAMP:20260426T014448Z
END:VEVENT
END:VCALENDAR