BEGIN:VCALENDAR
VERSION:2.0
PRODID:network.healthwatch.co.uk
BEGIN:VEVENT
UID:69e9849ec2a44
DTSTART:20251110T133000Z
SEQUENCE:0
TRANSP:OPAQUE
DTEND:20251110T150000Z
LOCATION:Online
SUMMARY:Healthwatch Engagement Leads Network (Values into Action)
CLASS:PUBLIC
DTSTAMP:20260423T023158Z
END:VEVENT
END:VCALENDAR