BEGIN:VCALENDAR
VERSION:2.0
PRODID:network.healthwatch.co.uk
BEGIN:VEVENT
UID:69e98064af1fc
DTSTART:20251111T094500Z
SEQUENCE:0
TRANSP:OPAQUE
DTEND:20251111T153000Z
LOCATION:Online
SUMMARY:Project management for non-project managers
CLASS:PUBLIC
DTSTAMP:20260423T021356Z
END:VEVENT
END:VCALENDAR