BEGIN:VCALENDAR
VERSION:2.0
PRODID:network.healthwatch.co.uk
BEGIN:VEVENT
UID:69e9804126d9f
DTSTART:20251106T093000Z
SEQUENCE:0
TRANSP:OPAQUE
DTEND:20251106T123000Z
LOCATION:Online
SUMMARY: Navigating change with confidence
CLASS:PUBLIC
DTSTAMP:20260423T021321Z
END:VEVENT
END:VCALENDAR