BEGIN:VCALENDAR
VERSION:2.0
PRODID:network.healthwatch.co.uk
BEGIN:VEVENT
UID:69e9813778d2b
DTSTART:20251201T100000Z
SEQUENCE:0
TRANSP:OPAQUE
DTEND:20251201T130000Z
LOCATION:Online
SUMMARY:Come across with confidence (2-part course)
CLASS:PUBLIC
DTSTAMP:20260423T021727Z
END:VEVENT
BEGIN:VEVENT
UID:69e9813778e31
DTSTART:20251202T100000Z
SEQUENCE:0
TRANSP:OPAQUE
DTEND:20251202T130000Z
LOCATION:Online
SUMMARY:Come across with confidence (2-part course)
CLASS:PUBLIC
DTSTAMP:20260423T021727Z
END:VEVENT
END:VCALENDAR