BEGIN:VCALENDAR
VERSION:2.0
PRODID:network.healthwatch.co.uk
BEGIN:VEVENT
UID:69e969697235c
DTSTART:20260311T113000Z
SEQUENCE:0
TRANSP:OPAQUE
DTEND:20260311T130000Z
LOCATION:Online
SUMMARY:Healthwatch Adult Social Care network meeting
CLASS:PUBLIC
DTSTAMP:20260423T003553Z
END:VEVENT
END:VCALENDAR