BEGIN:VCALENDAR
VERSION:2.0
PRODID:network.healthwatch.co.uk
BEGIN:VEVENT
UID:69e980ac2f40f
DTSTART:20260316T100000Z
SEQUENCE:0
TRANSP:OPAQUE
DTEND:20260316T130000Z
LOCATION:Online
SUMMARY:Come across with confidence (2-part course)
CLASS:PUBLIC
DTSTAMP:20260423T021508Z
END:VEVENT
BEGIN:VEVENT
UID:69e980ac2f5d3
DTSTART:20260317T100000Z
SEQUENCE:0
TRANSP:OPAQUE
DTEND:20260317T130000Z
LOCATION:Online
SUMMARY:Come across with confidence (2-part course)
CLASS:PUBLIC
DTSTAMP:20260423T021508Z
END:VEVENT
END:VCALENDAR