BEGIN:VCALENDAR
VERSION:2.0
PRODID:network.healthwatch.co.uk
BEGIN:VEVENT
UID:69e9810401120
DTSTART:20260416T090000Z
SEQUENCE:0
TRANSP:OPAQUE
DTEND:20260416T100000Z
LOCATION:Online
SUMMARY:Lead officers network meeting
CLASS:PUBLIC
DTSTAMP:20260423T021636Z
END:VEVENT
END:VCALENDAR