BEGIN:VCALENDAR
VERSION:2.0
PRODID:network.healthwatch.co.uk
BEGIN:VEVENT
UID:69e98164980ef
DTSTART:20260520T090000Z
SEQUENCE:0
TRANSP:OPAQUE
DTEND:20260520T110000Z
LOCATION:Online
SUMMARY:How we measure impact
CLASS:PUBLIC
DTSTAMP:20260423T021812Z
END:VEVENT
END:VCALENDAR