BEGIN:VCALENDAR
VERSION:2.0
PRODID:network.healthwatch.co.uk
BEGIN:VEVENT
UID:69e96cede2a4f
DTSTART:20260513T090000Z
SEQUENCE:0
TRANSP:OPAQUE
DTEND:20260513T110000Z
LOCATION:Online
SUMMARY:Planning and running semi structured interviews
CLASS:PUBLIC
DTSTAMP:20260423T005053Z
END:VEVENT
END:VCALENDAR