BEGIN:VCALENDAR
VERSION:2.0
PRODID:network.healthwatch.co.uk
BEGIN:VEVENT
UID:69e980e03c395
DTSTART:20260514T090000Z
SEQUENCE:0
TRANSP:OPAQUE
DTEND:20260514T103000Z
LOCATION:Online
SUMMARY:Chairs and board members network meeting
CLASS:PUBLIC
DTSTAMP:20260423T021600Z
END:VEVENT
END:VCALENDAR