BEGIN:VCALENDAR
VERSION:2.0
PRODID:network.healthwatch.co.uk
BEGIN:VEVENT
UID:69e97ffab2f28
DTSTART:20260519T090000Z
SEQUENCE:0
TRANSP:OPAQUE
DTEND:20260519T103000Z
LOCATION:Online
SUMMARY:Using Artificial Intelligence (AI) in your work
CLASS:PUBLIC
DTSTAMP:20260423T021210Z
END:VEVENT
END:VCALENDAR