BEGIN:VCALENDAR
VERSION:2.0
PRODID:network.healthwatch.co.uk
BEGIN:VEVENT
UID:69e98079387d5
DTSTART:20260608T100000Z
SEQUENCE:0
TRANSP:OPAQUE
DTEND:20260608T111500Z
LOCATION:Online
SUMMARY:Research and Insight Network Group meeting
CLASS:PUBLIC
DTSTAMP:20260423T021417Z
END:VEVENT
END:VCALENDAR