BEGIN:VCALENDAR
VERSION:2.0
PRODID:network.healthwatch.co.uk
BEGIN:VEVENT
UID:69e97f11e6cfe
DTSTART:20260611T130000Z
SEQUENCE:0
TRANSP:OPAQUE
DTEND:20260611T143000Z
LOCATION:Online
SUMMARY:How to make your communications accessible
CLASS:PUBLIC
DTSTAMP:20260423T020817Z
END:VEVENT
END:VCALENDAR