BEGIN:VCALENDAR
VERSION:2.0
PRODID:network.healthwatch.co.uk
BEGIN:VEVENT
UID:69e98018e0620
DTSTART:20260617T090000Z
SEQUENCE:0
TRANSP:OPAQUE
DTEND:20260617T110000Z
LOCATION:Online
SUMMARY:Developing a good online survey
CLASS:PUBLIC
DTSTAMP:20260423T021240Z
END:VEVENT
END:VCALENDAR