BEGIN:VCALENDAR
VERSION:2.0
PRODID:network.healthwatch.co.uk
BEGIN:VEVENT
UID:69e981fe77c5a
DTSTART:20260618T090000Z
SEQUENCE:0
TRANSP:OPAQUE
DTEND:20260618T100000Z
LOCATION:Online
SUMMARY:Lead officers network meeting
CLASS:PUBLIC
DTSTAMP:20260423T022046Z
END:VEVENT
END:VCALENDAR