BEGIN:VCALENDAR
VERSION:2.0
PRODID:network.healthwatch.co.uk
BEGIN:VEVENT
UID:69e981fe46880
DTSTART:20260624T100000Z
SEQUENCE:0
TRANSP:OPAQUE
DTEND:20260624T110000Z
LOCATION:Online
SUMMARY:Influencing your local NHS and social care 
CLASS:PUBLIC
DTSTAMP:20260423T022046Z
END:VEVENT
END:VCALENDAR