BEGIN:VCALENDAR
VERSION:2.0
PRODID:network.healthwatch.co.uk
BEGIN:VEVENT
UID:69e980fe81391
DTSTART:20260707T090000Z
SEQUENCE:0
TRANSP:OPAQUE
DTEND:20260707T103000Z
LOCATION:Online
SUMMARY:Writing to engage your audience
CLASS:PUBLIC
DTSTAMP:20260423T021630Z
END:VEVENT
END:VCALENDAR