BEGIN:VCALENDAR
VERSION:2.0
PRODID:network.healthwatch.co.uk
BEGIN:VEVENT
UID:69e96cf92a30e
DTSTART:20260709T090000Z
SEQUENCE:0
TRANSP:OPAQUE
DTEND:20260709T110000Z
LOCATION:Online
SUMMARY:Planning and running semi structured interviews
CLASS:PUBLIC
DTSTAMP:20260423T005105Z
END:VEVENT
END:VCALENDAR