BEGIN:VCALENDAR
VERSION:2.0
PRODID:network.healthwatch.co.uk
BEGIN:VEVENT
UID:69e98330f0e54
DTSTART:20260716T093000Z
SEQUENCE:0
TRANSP:OPAQUE
DTEND:20260716T103000Z
LOCATION:Online
SUMMARY:Campaigns and Communications Ambassador Network (CAN) Catch-up
CLASS:PUBLIC
DTSTAMP:20260423T022552Z
END:VEVENT
END:VCALENDAR