BEGIN:VCALENDAR
VERSION:2.0
PRODID:network.healthwatch.co.uk
BEGIN:VEVENT
UID:69e96c95edcf0
DTSTART:20260721T090000Z
SEQUENCE:0
TRANSP:OPAQUE
DTEND:20260721T111500Z
LOCATION:Online
SUMMARY:Qualitative Data Analysis
CLASS:PUBLIC
DTSTAMP:20260423T004925Z
END:VEVENT
END:VCALENDAR