BEGIN:VCALENDAR
VERSION:2.0
PRODID:network.healthwatch.co.uk
BEGIN:VEVENT
UID:69e98103bdd88
DTSTART:20260813T090000Z
SEQUENCE:0
TRANSP:OPAQUE
DTEND:20260813T103000Z
LOCATION:Online
SUMMARY:Chairs and board members network meeting
CLASS:PUBLIC
DTSTAMP:20260423T021635Z
END:VEVENT
END:VCALENDAR