BEGIN:VCALENDAR
VERSION:2.0
PRODID:network.healthwatch.co.uk
BEGIN:VEVENT
UID:69e98254bf5fc
DTSTART:20260909T100000Z
SEQUENCE:0
TRANSP:OPAQUE
DTEND:20260909T110000Z
LOCATION:Online
SUMMARY:Influencing your local politicians (Councillors and MPs)
CLASS:PUBLIC
DTSTAMP:20260423T022212Z
END:VEVENT
END:VCALENDAR