BEGIN:VCALENDAR
VERSION:2.0
PRODID:network.healthwatch.co.uk
BEGIN:VEVENT
UID:69ed343255b28
DTSTART:20260910T130000Z
SEQUENCE:0
TRANSP:OPAQUE
DTEND:20260910T143000Z
LOCATION:Online
SUMMARY:How to get media coverage
CLASS:PUBLIC
DTSTAMP:20260425T213754Z
END:VEVENT
END:VCALENDAR