BEGIN:VCALENDAR
VERSION:2.0
PRODID:network.healthwatch.co.uk
BEGIN:VEVENT
UID:69ed346165efa
DTSTART:20260917T090000Z
SEQUENCE:0
TRANSP:OPAQUE
DTEND:20260917T110000Z
LOCATION:Online
SUMMARY:Developing a good online survey
CLASS:PUBLIC
DTSTAMP:20260425T213841Z
END:VEVENT
END:VCALENDAR