BEGIN:VCALENDAR
VERSION:2.0
PRODID:network.healthwatch.co.uk
BEGIN:VEVENT
UID:69ed87f299f4c
DTSTART:20261117T100000Z
SEQUENCE:0
TRANSP:OPAQUE
DTEND:20261117T120000Z
LOCATION:Online
SUMMARY:Writing research and engagement reports
CLASS:PUBLIC
DTSTAMP:20260426T033514Z
END:VEVENT
END:VCALENDAR