BEGIN:VCALENDAR
VERSION:2.0
PRODID:network.healthwatch.co.uk
BEGIN:VEVENT
UID:69e6ad55a0236
DTSTART:20260715T083000Z
SEQUENCE:0
TRANSP:OPAQUE
DTEND:20260715T113000Z
LOCATION:Online
SUMMARY:Navigating change with confidence 
CLASS:PUBLIC
DTSTAMP:20260420T224853Z
END:VEVENT
END:VCALENDAR